BEGIN:VCALENDAR
VERSION:2.0
PRODID:-//eventon.com NONSGML v1.0//EN
CALSCALE:GREGORIAN
METHOD:PUBLISH
BEGIN:VEVENT
UID:69eab12a4b63e
DTSTAMP:20260423T235418Z
DTSTART:20180602T110000Z
DTEND:20180602T130000Z
LOCATION:Ellen Stirling Primary School Oval
SUMMARY:COLOUR EXPLOSION FUN RUN
DESCRIPTION:COLOUR EXPLOSION FUN RUN\nhttp://ellenstirlingps.wa.edu.au/even
 ts/colour-explosion-fun-run/
URL:http://ellenstirlingps.wa.edu.au/events/colour-explosion-fun-run/
END:VEVENT
END:VCALENDAR